{
 "currentVersion": 10.31,
 "serviceDescription": "This service is of the MORPC transportation system for 7 counties in the central Ohio region: Delaware, Fairfield, Fayette, Franklin, Licking, Madison, and Union. Local roads (visible at scale 1:144,500 and larger) are based on county Location Based Response System (LBRS) data, updated December, 2014. State and Interstate roads come from the Ohio Department of Transportation (visible at scale 1:288,900 and smaller), last updated October 2012.",
 "mapName": "Base Map",
 "description": "",
 "copyrightText": "N/A",
 "supportsDynamicLayers": false,
 "layers": [
  {
   "id": 0,
   "name": "Place labels",
   "parentLayerId": -1,
   "defaultVisibility": true,
   "subLayerIds": [
    1,
    2
   ],
   "minScale": 0,
   "maxScale": 0
  },
  {
   "id": 1,
   "name": "Trans_Airports",
   "parentLayerId": 0,
   "defaultVisibility": true,
   "subLayerIds": null,
   "minScale": 0,
   "maxScale": 0
  },
  {
   "id": 3,
   "name": "Transportation",
   "parentLayerId": -1,
   "defaultVisibility": true,
   "subLayerIds": [
    4,
    6,
    8,
    11,
    14,
    17,
    20,
    23,
    26,
    29,
    32
   ],
   "minScale": 0,
   "maxScale": 0
  },
  {
   "id": 4,
   "name": "Scale 1:1,155,581",
   "parentLayerId": 3,
   "defaultVisibility": true,
   "subLayerIds": [
    5
   ],
   "minScale": 0,
   "maxScale": 577800
  },
  {
   "id": 6,
   "name": "Scale 1:577,791",
   "parentLayerId": 3,
   "defaultVisibility": true,
   "subLayerIds": [
    7
   ],
   "minScale": 577800,
   "maxScale": 289800
  },
  {
   "id": 8,
   "name": "Scale 1:288,895",
   "parentLayerId": 3,
   "defaultVisibility": true,
   "subLayerIds": [
    9,
    10
   ],
   "minScale": 289800,
   "maxScale": 144800
  },
  {
   "id": 10,
   "name": "Railroad",
   "parentLayerId": 8,
   "defaultVisibility": true,
   "subLayerIds": null,
   "minScale": 0,
   "maxScale": 0
  },
  {
   "id": 11,
   "name": "Scale 1:144,448",
   "parentLayerId": 3,
   "defaultVisibility": true,
   "subLayerIds": [
    12,
    13
   ],
   "minScale": 144800,
   "maxScale": 72800
  },
  {
   "id": 13,
   "name": "Railroad",
   "parentLayerId": 11,
   "defaultVisibility": true,
   "subLayerIds": null,
   "minScale": 0,
   "maxScale": 0
  },
  {
   "id": 14,
   "name": "Scale 1:72,224",
   "parentLayerId": 3,
   "defaultVisibility": true,
   "subLayerIds": [
    15,
    16
   ],
   "minScale": 72800,
   "maxScale": 36800
  },
  {
   "id": 15,
   "name": "Interstates, US, State, and County Routes",
   "parentLayerId": 14,
   "defaultVisibility": true,
   "subLayerIds": null,
   "minScale": 0,
   "maxScale": 0
  },
  {
   "id": 16,
   "name": "Railroad",
   "parentLayerId": 14,
   "defaultVisibility": true,
   "subLayerIds": null,
   "minScale": 0,
   "maxScale": 0
  },
  {
   "id": 17,
   "name": "Scale 1:36,112",
   "parentLayerId": 3,
   "defaultVisibility": true,
   "subLayerIds": [
    18,
    19
   ],
   "minScale": 36800,
   "maxScale": 18800
  },
  {
   "id": 18,
   "name": "All Roads",
   "parentLayerId": 17,
   "defaultVisibility": true,
   "subLayerIds": null,
   "minScale": 0,
   "maxScale": 0
  },
  {
   "id": 19,
   "name": "Railroad",
   "parentLayerId": 17,
   "defaultVisibility": true,
   "subLayerIds": null,
   "minScale": 0,
   "maxScale": 0
  },
  {
   "id": 20,
   "name": "Scale 1:18,056",
   "parentLayerId": 3,
   "defaultVisibility": true,
   "subLayerIds": [
    21,
    22
   ],
   "minScale": 18800,
   "maxScale": 9800
  },
  {
   "id": 21,
   "name": "All Roads",
   "parentLayerId": 20,
   "defaultVisibility": true,
   "subLayerIds": null,
   "minScale": 0,
   "maxScale": 0
  },
  {
   "id": 22,
   "name": "Railroad",
   "parentLayerId": 20,
   "defaultVisibility": true,
   "subLayerIds": null,
   "minScale": 0,
   "maxScale": 0
  },
  {
   "id": 23,
   "name": "Scale 1:9,028",
   "parentLayerId": 3,
   "defaultVisibility": true,
   "subLayerIds": [
    24,
    25
   ],
   "minScale": 9800,
   "maxScale": 4800
  },
  {
   "id": 24,
   "name": "All Roads",
   "parentLayerId": 23,
   "defaultVisibility": true,
   "subLayerIds": null,
   "minScale": 0,
   "maxScale": 0
  },
  {
   "id": 25,
   "name": "Railroad",
   "parentLayerId": 23,
   "defaultVisibility": true,
   "subLayerIds": null,
   "minScale": 0,
   "maxScale": 0
  },
  {
   "id": 26,
   "name": "Scale 1:4,514",
   "parentLayerId": 3,
   "defaultVisibility": true,
   "subLayerIds": [
    27,
    28
   ],
   "minScale": 4800,
   "maxScale": 2800
  },
  {
   "id": 27,
   "name": "All Roads",
   "parentLayerId": 26,
   "defaultVisibility": true,
   "subLayerIds": null,
   "minScale": 0,
   "maxScale": 0
  },
  {
   "id": 28,
   "name": "Railroad",
   "parentLayerId": 26,
   "defaultVisibility": true,
   "subLayerIds": null,
   "minScale": 0,
   "maxScale": 0
  },
  {
   "id": 29,
   "name": "Scale 1:2,257",
   "parentLayerId": 3,
   "defaultVisibility": true,
   "subLayerIds": [
    30,
    31
   ],
   "minScale": 2800,
   "maxScale": 1800
  },
  {
   "id": 30,
   "name": "All Roads",
   "parentLayerId": 29,
   "defaultVisibility": false,
   "subLayerIds": null,
   "minScale": 0,
   "maxScale": 0
  },
  {
   "id": 31,
   "name": "Railroad",
   "parentLayerId": 29,
   "defaultVisibility": true,
   "subLayerIds": null,
   "minScale": 0,
   "maxScale": 0
  },
  {
   "id": 32,
   "name": "Scale 1:1,129",
   "parentLayerId": 3,
   "defaultVisibility": false,
   "subLayerIds": [
    33,
    34
   ],
   "minScale": 1800,
   "maxScale": 800
  },
  {
   "id": 33,
   "name": "All Roads",
   "parentLayerId": 32,
   "defaultVisibility": true,
   "subLayerIds": null,
   "minScale": 0,
   "maxScale": 0
  },
  {
   "id": 34,
   "name": "Railroad",
   "parentLayerId": 32,
   "defaultVisibility": true,
   "subLayerIds": null,
   "minScale": 0,
   "maxScale": 0
  },
  {
   "id": 35,
   "name": "Bottom layers",
   "parentLayerId": -1,
   "defaultVisibility": true,
   "subLayerIds": [
    36,
    37,
    38,
    39,
    40,
    55,
    56,
    57
   ],
   "minScale": 0,
   "maxScale": 0
  },
  {
   "id": 36,
   "name": "Counties_OH_lines",
   "parentLayerId": 35,
   "defaultVisibility": true,
   "subLayerIds": null,
   "minScale": 0,
   "maxScale": 0
  },
  {
   "id": 37,
   "name": "County Masks",
   "parentLayerId": 35,
   "defaultVisibility": true,
   "subLayerIds": null,
   "minScale": 0,
   "maxScale": 10000
  },
  {
   "id": 38,
   "name": "Water",
   "parentLayerId": 35,
   "defaultVisibility": true,
   "subLayerIds": null,
   "minScale": 0,
   "maxScale": 0
  },
  {
   "id": 39,
   "name": "Parks and Open Space",
   "parentLayerId": 35,
   "defaultVisibility": true,
   "subLayerIds": null,
   "minScale": 0,
   "maxScale": 0
  },
  {
   "id": 40,
   "name": "Hillshades",
   "parentLayerId": 35,
   "defaultVisibility": true,
   "subLayerIds": [
    41
   ],
   "minScale": 0,
   "maxScale": 0
  },
  {
   "id": 41,
   "name": "Hill shades",
   "parentLayerId": 40,
   "defaultVisibility": true,
   "subLayerIds": [
    42,
    43,
    44,
    45,
    46,
    47,
    48,
    49,
    50,
    51,
    52,
    53,
    54
   ],
   "minScale": 0,
   "maxScale": 10000
  },
  {
   "id": 42,
   "name": "Counties",
   "parentLayerId": 41,
   "defaultVisibility": true,
   "subLayerIds": null,
   "minScale": 0,
   "maxScale": 0
  },
  {
   "id": 43,
   "name": "Fayette_hillshade",
   "parentLayerId": 41,
   "defaultVisibility": false,
   "subLayerIds": null,
   "minScale": 0,
   "maxScale": 0
  },
  {
   "id": 44,
   "name": "Madison_hillshade",
   "parentLayerId": 41,
   "defaultVisibility": true,
   "subLayerIds": null,
   "minScale": 0,
   "maxScale": 0
  },
  {
   "id": 45,
   "name": "Pickaway_hillshade",
   "parentLayerId": 41,
   "defaultVisibility": true,
   "subLayerIds": null,
   "minScale": 0,
   "maxScale": 0
  },
  {
   "id": 46,
   "name": "Franklin_hillshade",
   "parentLayerId": 41,
   "defaultVisibility": true,
   "subLayerIds": null,
   "minScale": 0,
   "maxScale": 0
  },
  {
   "id": 47,
   "name": "Knox_hillshade",
   "parentLayerId": 41,
   "defaultVisibility": false,
   "subLayerIds": null,
   "minScale": 0,
   "maxScale": 0
  },
  {
   "id": 48,
   "name": "Marion_hillshade",
   "parentLayerId": 41,
   "defaultVisibility": false,
   "subLayerIds": null,
   "minScale": 0,
   "maxScale": 0
  },
  {
   "id": 49,
   "name": "Morrow_hillshade",
   "parentLayerId": 41,
   "defaultVisibility": false,
   "subLayerIds": null,
   "minScale": 0,
   "maxScale": 0
  },
  {
   "id": 50,
   "name": "Licking_hillshade",
   "parentLayerId": 41,
   "defaultVisibility": true,
   "subLayerIds": null,
   "minScale": 0,
   "maxScale": 0
  },
  {
   "id": 51,
   "name": "Fairfield_hillshade",
   "parentLayerId": 41,
   "defaultVisibility": true,
   "subLayerIds": null,
   "minScale": 0,
   "maxScale": 0
  },
  {
   "id": 52,
   "name": "Delaware_hillshade",
   "parentLayerId": 41,
   "defaultVisibility": true,
   "subLayerIds": null,
   "minScale": 0,
   "maxScale": 0
  },
  {
   "id": 53,
   "name": "Union_hillshade",
   "parentLayerId": 41,
   "defaultVisibility": true,
   "subLayerIds": null,
   "minScale": 0,
   "maxScale": 0
  },
  {
   "id": 54,
   "name": "Ross_hillshade",
   "parentLayerId": 41,
   "defaultVisibility": false,
   "subLayerIds": null,
   "minScale": 0,
   "maxScale": 0
  },
  {
   "id": 55,
   "name": "Townships",
   "parentLayerId": 35,
   "defaultVisibility": true,
   "subLayerIds": null,
   "minScale": 0,
   "maxScale": 10000
  },
  {
   "id": 56,
   "name": "City labels",
   "parentLayerId": 35,
   "defaultVisibility": true,
   "subLayerIds": null,
   "minScale": 0,
   "maxScale": 0
  },
  {
   "id": 57,
   "name": "Cities to play with colors - to 10000",
   "parentLayerId": 35,
   "defaultVisibility": true,
   "subLayerIds": null,
   "minScale": 0,
   "maxScale": 0
  }
 ],
 "tables": [],
 "spatialReference": {
  "wkid": 102100,
  "latestWkid": 3857
 },
 "singleFusedMapCache": true,
 "tileInfo": {
  "rows": 256,
  "cols": 256,
  "dpi": 96,
  "format": "PNG",
  "compressionQuality": 0,
  "origin": {
   "x": -2.0037508342787E7,
   "y": 2.0037508342787E7
  },
  "spatialReference": {
   "wkid": 102100,
   "latestWkid": 3857
  },
  "lods": [
   {
    "level": 0,
    "resolution": 156543.033928,
    "scale": 5.91657527591555E8
   },
   {
    "level": 1,
    "resolution": 78271.5169639999,
    "scale": 2.95828763795777E8
   },
   {
    "level": 2,
    "resolution": 39135.7584820001,
    "scale": 1.47914381897889E8
   },
   {
    "level": 3,
    "resolution": 19567.8792409999,
    "scale": 7.3957190948944E7
   },
   {
    "level": 4,
    "resolution": 9783.93962049996,
    "scale": 3.6978595474472E7
   },
   {
    "level": 5,
    "resolution": 4891.96981024998,
    "scale": 1.8489297737236E7
   },
   {
    "level": 6,
    "resolution": 2445.98490512499,
    "scale": 9244648.868618
   },
   {
    "level": 7,
    "resolution": 1222.99245256249,
    "scale": 4622324.434309
   },
   {
    "level": 8,
    "resolution": 611.49622628138,
    "scale": 2311162.217155
   },
   {
    "level": 9,
    "resolution": 305.748113140558,
    "scale": 1155581.108577
   },
   {
    "level": 10,
    "resolution": 152.874056570411,
    "scale": 577790.554289
   },
   {
    "level": 11,
    "resolution": 76.4370282850732,
    "scale": 288895.277144
   },
   {
    "level": 12,
    "resolution": 38.2185141425366,
    "scale": 144447.638572
   },
   {
    "level": 13,
    "resolution": 19.1092570712683,
    "scale": 72223.819286
   },
   {
    "level": 14,
    "resolution": 9.55462853563415,
    "scale": 36111.909643
   },
   {
    "level": 15,
    "resolution": 4.77731426794937,
    "scale": 18055.954822
   },
   {
    "level": 16,
    "resolution": 2.38865713397468,
    "scale": 9027.977411
   },
   {
    "level": 17,
    "resolution": 1.19432856685505,
    "scale": 4513.988705
   },
   {
    "level": 18,
    "resolution": 0.597164283559817,
    "scale": 2256.994353
   },
   {
    "level": 19,
    "resolution": 0.298582141647617,
    "scale": 1128.497176
   }
  ]
 },
 "initialExtent": {
  "xmin": -9515507.00123479,
  "ymin": 4620734.057810423,
  "xmax": -8895449.827785471,
  "ymax": 5176584.127500198,
  "spatialReference": {
   "cs": "pcs",
   "wkid": 102100
  }
 },
 "fullExtent": {
  "xmin": -9515507.00123479,
  "ymin": 4620734.057810423,
  "xmax": -8895449.827785471,
  "ymax": 5176584.127500197,
  "spatialReference": {
   "cs": "pcs",
   "wkid": 102100
  }
 },
 "minScale": 4622324.434309,
 "maxScale": 4513.988705,
 "units": "esriMeters",
 "supportedImageFormatTypes": "PNG32,PNG24,PNG,JPG,DIB,TIFF,EMF,PS,PDF,GIF,SVG,SVGZ,BMP",
 "documentInfo": {
  "Title": "Central Ohio transportation",
  "Author": "deisenberg",
  "Comments": "This service is of the MORPC transportation system for 7 counties in the central Ohio region: Delaware, Fairfield, Fayette, Franklin, Licking, Madison, and Union. Local roads (visible at scale 1:144,500 and larger) are based on county Location Based Response System (LBRS) data, updated December, 2014. State and Interstate roads come from the Ohio Department of Transportation (visible at scale 1:288,900 and smaller), last updated October 2012.",
  "Subject": "Central Ohio roads and rail for 7 counties in the central Ohio region: Delaware, Fairfield, Fayette, Franklin, Licking, Madison, and Union.",
  "Category": "",
  "AntialiasingMode": "None",
  "TextAntialiasingMode": "Force",
  "Keywords": "Central Ohio,roads,rail,transportation"
 },
 "capabilities": "Map,Query,Data",
 "supportedQueryFormats": "JSON, AMF",
 "exportTilesAllowed": false,
 "maxRecordCount": 1000,
 "maxImageHeight": 4096,
 "maxImageWidth": 4096,
 "supportedExtensions": ""
}
