View In:
ArcGIS JavaScript
ArcGIS Online map viewer
Google Earth
ArcMap
ArcGIS Explorer
View Footprint In:
ArcGIS Online map viewer
Service Description: Travel Time Reliability of system performance for 7 counties in Central Ohio, for the analysis time period 5PM - 6PM.
Map Name: System Performance
Legend
All Layers and Tables
Layers:
Description:
Copyright Text: MORPC
Spatial Reference:
102100
(3857)
Single Fused Map Cache: true
Tile Info:
- Height: 256
- Width: 256
- DPI: 96
-
Levels of Detail: 20
-
Level ID: 1
[ Start Tile, End Tile ]
- Resolution: 78271.5169639999
- Scale: 2.95828763795777E8
-
Level ID: 2
[ Start Tile, End Tile ]
- Resolution: 39135.7584820001
- Scale: 1.47914381897889E8
-
Level ID: 3
[ Start Tile, End Tile ]
- Resolution: 19567.8792409999
- Scale: 7.3957190948944E7
-
Level ID: 4
[ Start Tile, End Tile ]
- Resolution: 9783.93962049996
- Scale: 3.6978595474472E7
-
Level ID: 5
[ Start Tile, End Tile ]
- Resolution: 4891.96981024998
- Scale: 1.8489297737236E7
- Format: PNG32
- Compression Quality: 0.0
- Origin: X: -2.0037508342787E7
Y: 2.0037508342787E7
- Spatial Reference: 102100
(3857)
Initial Extent:
XMin: -9251696.370939616
YMin: 4863193.266233705
XMax: -9245046.349478815
YMax: 4883449.07872925
Spatial Reference: 102100
Full Extent:
XMin: -9293229.986673964
YMin: 4800175.682884432
XMax: -9165733.023494242
YMax: 4935163.4748361055
Spatial Reference: 102100
Units: esriMeters
Supported Image Format Types: PNG32,PNG24,PNG,JPG,DIB,TIFF,EMF,PS,PDF,GIF,SVG,SVGZ,BMP
Document Info:
Title:
Author: DEisenberg
Comments: Travel Time Reliability of system performance for 7 counties in Central Ohio, for the analysis time period 12AM - 1AM.
Subject: Travel Time Reliability of system performance for 7 counties in Central Ohio, for the analysis time period 12AM - 1AM.
Category:
Keywords: freight
AntialiasingMode: None
TextAntialiasingMode: Force
Supports Dynamic Layers: false
MaxRecordCount: 1000
MaxImageHeight: 4096
MaxImageWidth: 4096
Supported Query Formats: JSON, AMF
Min Scale: 1155581.108577
Max Scale: 18055.954822
Child Resources:
Info
Supported Operations:
Export Map
Return Updates