View In:
ArcGIS JavaScript
ArcGIS Online map viewer
Google Earth
ArcMap
ArcGIS Explorer
View Footprint In:
ArcGIS Online map viewer
Service Description: Boundary file showing 116th United States Congress in session 2019-2020 - Ohio Congressional delegation. Geography: United States of America House of Representatives districts for the State of Ohio. Source: house.gov. Updated: January, 2019.
Map Name: U.S. House of Representative Districts, Ohio
Legend
All Layers and Tables
Dynamic Legend
Dynamic All Layers
Layers:
Description:
Copyright Text:
Spatial Reference:
102100
(3857)
Single Fused Map Cache: true
Tile Info:
- Height: 256
- Width: 256
- DPI: 96
-
Levels of Detail: 20
-
Level ID: 0
[ Start Tile, End Tile ]
- Resolution: 156543.03392800014
- Scale: 5.91657527591555E8
-
Level ID: 1
[ Start Tile, End Tile ]
- Resolution: 78271.51696399994
- Scale: 2.95828763795777E8
-
Level ID: 2
[ Start Tile, End Tile ]
- Resolution: 39135.75848200009
- Scale: 1.47914381897889E8
-
Level ID: 3
[ Start Tile, End Tile ]
- Resolution: 19567.87924099992
- Scale: 7.3957190948944E7
-
Level ID: 4
[ Start Tile, End Tile ]
- Resolution: 9783.93962049996
- Scale: 3.6978595474472E7
-
Level ID: 5
[ Start Tile, End Tile ]
- Resolution: 4891.96981024998
- Scale: 1.8489297737236E7
- Format: PNG
- Compression Quality: 0.0
- Origin: X: -2.0037508342787E7
Y: 2.0037508342787E7
- Spatial Reference: 102100
(3857)
Initial Extent:
XMin: -9593085.43931494
YMin: 4734118.433612595
XMax: -8906826.625076063
YMax: 5104108.025853842
Spatial Reference: 102100
Full Extent:
XMin: -9454509.899568228
YMin: 4633310.66252365
XMax: -8957782.595596459
YMax: 5212534.889918986
Spatial Reference: 102100
Units: esriMeters
Supported Image Format Types: PNG32,PNG24,PNG,JPG,DIB,TIFF,EMF,PS,PDF,GIF,SVG,SVGZ,BMP
Document Info:
Title: U.S. House of Representative Districts, Ohio
Author: deisenberg
Comments: Boundary file showing 115th United States Congress in session 2017-2018 - Ohio Congressional delegation. Geography: United States of America House of Representatives districts for the State of Ohio. Source: house.gov. Updated: January 12, 2016.
Subject: Boundary file showing 115th United States Congress in session 2017-2018 - Ohio Congressional delegation.
Category:
Keywords: US House of Representatives,legislature,legislative,political boundaries,government
AntialiasingMode: None
TextAntialiasingMode: Force
Supports Dynamic Layers: true
MaxRecordCount: 1000
MaxImageHeight: 4096
MaxImageWidth: 4096
Supported Query Formats: JSON, AMF
Min Scale: 4622324.434309
Max Scale: 36111.909643
Child Resources:
Info
Dynamic Layer
Supported Operations:
Export Map
Identify
Find
Return Updates
Generate KML